BEGIN:VCALENDAR
VERSION:2.0
PRODID:-//Project: Return to Work, Inc - ECPv4.9.12//NONSGML v1.0//EN
CALSCALE:GREGORIAN
METHOD:PUBLISH
X-WR-CALNAME:Project: Return to Work, Inc
X-ORIGINAL-URL:https://return2work.org
X-WR-CALDESC:Events for Project: Return to Work, Inc
BEGIN:VTIMEZONE
TZID:America/Denver
BEGIN:DAYLIGHT
TZOFFSETFROM:-0700
TZOFFSETTO:-0600
TZNAME:MDT
DTSTART:20250309T090000
END:DAYLIGHT
BEGIN:STANDARD
TZOFFSETFROM:-0600
TZOFFSETTO:-0700
TZNAME:MST
DTSTART:20251102T080000
END:STANDARD
END:VTIMEZONE
BEGIN:VEVENT
DTSTART;TZID=America/Denver:20250411T123000
DTEND;TZID=America/Denver:20250411T130000
DTSTAMP:20260421T094943
CREATED:20250407T030230Z
LAST-MODIFIED:20250407T034532Z
UID:3304-1744374600-1744376400@return2work.org
SUMMARY:R2W Workshop | Job Seekers and Volunteers |  4-11-2025
DESCRIPTION:Roll up your sleeves and leap forward in just 1/2 hour.\nConnect with caring humans\, not just a machine.\nWe have a 1-month process\, but you can leap through it much faster if you want. \n\nWeek 1:  Intake – sign up\nWeek 2:  Evaluation – best fit\nWeek 3:  Training – prep for interviews\nWeek 4:  Placement – HEARTBEAT interviews and hires\n\nReady for a new career but don’t know your best options?\nVolunteer looking for a meaningful way to give back?\nStudent looking for interesting internships?\nThis workshop is for you!\nTeams –\nhttps://teams.microsoft.com/l/meetup-join/19%3aJd3qkcPmk17gq2L6Uz3gQCq6mKC4bDAElqn5LNaFXGc1%40thread.tacv2/1743993955413?context=%7b%22Tid%22%3a%22d80274dd-15ec-4a40-9723-43d26032c3b8%22%2c%22Oid%22%3a%220d93d087-2825-4803-b951-502988514dff%22%7d \n  \n  \nFarid Ahmadov- STEM Intern \nRaghav SinghR2W Volunteer STEM Intern \nPukar Kafley\, Volunteer STEM Intern @ CU \nRyan Chester\, Volunteer Mentor @ CU \nFilip Forejtek\, Champion CU Ski Team and R2W Advocate \nPastor Janice Cannon\, Greater Faith Worship CenterR2W Director and Chaplain \nChuck Wright\, Chair Mentors Committee \nFern Ballou\, R2W Director and Chaplain \nRob Brazell\, Founder \n
URL:https://return2work.org/event/r2w-workshop-job-seekers-and-volunteers-4-11-2025/
CATEGORIES:Volunteer,Weekly
ATTACH;FMTTYPE=image/jpeg:https://return2work.org/wp-content/uploads/sites/20/2024/11/YinandYang.jpg
ORGANIZER;CN="farid.ahmadov%40return2work.org":MAILTO:farid.ahmadov@return2work.org
END:VEVENT
END:VCALENDAR